BEGIN:VCALENDAR
VERSION:2.0
PRODID:-//Jackyl - ECPv6.15.20//NONSGML v1.0//EN
CALSCALE:GREGORIAN
METHOD:PUBLISH
X-WR-CALNAME:Jackyl
X-ORIGINAL-URL:https://jackyl.com
X-WR-CALDESC:Events for Jackyl
REFRESH-INTERVAL;VALUE=DURATION:PT1H
X-Robots-Tag:noindex
X-PUBLISHED-TTL:PT1H
BEGIN:VTIMEZONE
TZID:America/New_York
BEGIN:DAYLIGHT
TZOFFSETFROM:-0500
TZOFFSETTO:-0400
TZNAME:EDT
DTSTART:20250309T070000
END:DAYLIGHT
BEGIN:STANDARD
TZOFFSETFROM:-0400
TZOFFSETTO:-0500
TZNAME:EST
DTSTART:20251102T060000
END:STANDARD
BEGIN:DAYLIGHT
TZOFFSETFROM:-0500
TZOFFSETTO:-0400
TZNAME:EDT
DTSTART:20260308T070000
END:DAYLIGHT
BEGIN:STANDARD
TZOFFSETFROM:-0400
TZOFFSETTO:-0500
TZNAME:EST
DTSTART:20261101T060000
END:STANDARD
BEGIN:DAYLIGHT
TZOFFSETFROM:-0500
TZOFFSETTO:-0400
TZNAME:EDT
DTSTART:20270314T070000
END:DAYLIGHT
BEGIN:STANDARD
TZOFFSETFROM:-0400
TZOFFSETTO:-0500
TZNAME:EST
DTSTART:20271107T060000
END:STANDARD
END:VTIMEZONE
BEGIN:VEVENT
DTSTART;TZID=America/New_York:20260424T203000
DTEND;TZID=America/New_York:20260424T230000
DTSTAMP:20260421T103221
CREATED:20260116T160000Z
LAST-MODIFIED:20260114T185807Z
UID:1951-1777062600-1777071600@jackyl.com
SUMMARY:Jackyl live at Germanfest at Heritage Park Event Center \, Muenster\, TX
DESCRIPTION:Catch Jackyl live at Germanfest at Heritage Park Event Center in Muenster\, TX on April 24th\, 2026 for a free show!
URL:https://jackyl.com/event/jackyl-live-at-germanfest-at-heritage-park-event-center-muenster-tx/
LOCATION:Germanfest Muenster Texas\, 301 North Ash Street\, Muenster\, Texas\, 76252
CATEGORIES:Shows
ATTACH;FMTTYPE=image/jpeg:https://jackyl.com/wp-content/uploads/2023/04/Jackyl-15-scaled.jpg
END:VEVENT
END:VCALENDAR