BEGIN:VCALENDAR
VERSION:2.0
PRODID:-//Jackyl - ECPv6.15.20//NONSGML v1.0//EN
CALSCALE:GREGORIAN
METHOD:PUBLISH
X-WR-CALNAME:Jackyl
X-ORIGINAL-URL:https://jackyl.com
X-WR-CALDESC:Events for Jackyl
REFRESH-INTERVAL;VALUE=DURATION:PT1H
X-Robots-Tag:noindex
X-PUBLISHED-TTL:PT1H
BEGIN:VTIMEZONE
TZID:America/New_York
BEGIN:DAYLIGHT
TZOFFSETFROM:-0500
TZOFFSETTO:-0400
TZNAME:EDT
DTSTART:20250309T070000
END:DAYLIGHT
BEGIN:STANDARD
TZOFFSETFROM:-0400
TZOFFSETTO:-0500
TZNAME:EST
DTSTART:20251102T060000
END:STANDARD
BEGIN:DAYLIGHT
TZOFFSETFROM:-0500
TZOFFSETTO:-0400
TZNAME:EDT
DTSTART:20260308T070000
END:DAYLIGHT
BEGIN:STANDARD
TZOFFSETFROM:-0400
TZOFFSETTO:-0500
TZNAME:EST
DTSTART:20261101T060000
END:STANDARD
BEGIN:DAYLIGHT
TZOFFSETFROM:-0500
TZOFFSETTO:-0400
TZNAME:EDT
DTSTART:20270314T070000
END:DAYLIGHT
BEGIN:STANDARD
TZOFFSETFROM:-0400
TZOFFSETTO:-0500
TZNAME:EST
DTSTART:20271107T060000
END:STANDARD
END:VTIMEZONE
BEGIN:VEVENT
DTSTART;TZID=America/New_York:20260718T200000
DTEND;TZID=America/New_York:20260718T230000
DTSTAMP:20260421T150629
CREATED:20260225T214802Z
LAST-MODIFIED:20260225T214805Z
UID:2012-1784404800-1784415600@jackyl.com
SUMMARY:Jackyl and Buckcherry live at Kansas Crossing Casino\, Pittsburg\, KS
DESCRIPTION:Saturday\, July 18\, 2026The Outdoor Corral StageRAIN OR SHINEGates: 6:30pmThis is an ALL AGES show. Anyone under the age of 18 must be accompanied by an adult.No outside food or beverage. No chairs and no umbrellas.Refund Policy: No Refunds except in the event of show cancellationJACKYLJesse James Dupree - Vocals & GuitarJeff Worley – GuitarChris Worley – PercussionRoman Glick – BassMulti-platinum selling Jackyl exploded out of Georgia in 1992 with their loud\, proud\, and unapologetic brand of rock. Their Geffen Records debut went double-platinum\, powered by hits like “The Lumberjack”—featuring Jesse James Dupree’s iconic chainsaw solo—“I Stand Alone\,” and “Down on Me.” From a scene-stealing performance at Woodstock ’94 to their bold free-speech protest concert in front of a K-Mart\, Jackyl quickly carved a reputation for no-holds-barred rock mayhem. Along the way they’ve shared the stage with Aerosmith\, KISS\, ZZ Top\, and more\, set not one but two Guinness World Records\, and became the only band to record a duet with AC/DC when Brian Johnson lent his voice to “Locked and Loaded.”BUCKCHERRYBuckcherry is unique\, complex\, simple\, passionate\, explosive\, original\, and always a good time. BC has been my love\, my pain\, my passion and I'm so proud of what we have accomplished. I never knew when I started this that dedicating myself to music would be taking on so much responsibility. For a guy who never thought he was going to live past 30 this has been an incredible journey. Our ninth record HELLBOUND marks 22 years since our debut self-titled release and what an amazing roller coaster we have been on. From hit songs to platinum and gold records and millions of fans worldwide - all during a time period when traditional sounding hard rock bands didn't exist - except for Buckcherry. We beat the odds and built our reputation on the live shows\, and our "one of a kind" approach to every opportunity.
URL:https://jackyl.com/event/jackyl-and-buckcherry-live-at-kansas-crossing-casino-pittsburg-ks/
LOCATION:Kansas Crossing Casino\, 1275 S\, US-69\, Pittsburg\, Kansas\, 66762
CATEGORIES:Shows
ATTACH;FMTTYPE=image/jpeg:https://jackyl.com/wp-content/uploads/2026/01/599510486_1311682604324025_3607363939540086848_n.jpg
END:VEVENT
END:VCALENDAR