BEGIN:VCALENDAR
VERSION:2.0
PRODID:-//Jackyl - ECPv6.15.20//NONSGML v1.0//EN
CALSCALE:GREGORIAN
METHOD:PUBLISH
X-ORIGINAL-URL:https://jackyl.com
X-WR-CALDESC:Events for Jackyl
REFRESH-INTERVAL;VALUE=DURATION:PT1H
X-Robots-Tag:noindex
X-PUBLISHED-TTL:PT1H
BEGIN:VTIMEZONE
TZID:America/New_York
BEGIN:DAYLIGHT
TZOFFSETFROM:-0500
TZOFFSETTO:-0400
TZNAME:EDT
DTSTART:20250309T070000
END:DAYLIGHT
BEGIN:STANDARD
TZOFFSETFROM:-0400
TZOFFSETTO:-0500
TZNAME:EST
DTSTART:20251102T060000
END:STANDARD
BEGIN:DAYLIGHT
TZOFFSETFROM:-0500
TZOFFSETTO:-0400
TZNAME:EDT
DTSTART:20260308T070000
END:DAYLIGHT
BEGIN:STANDARD
TZOFFSETFROM:-0400
TZOFFSETTO:-0500
TZNAME:EST
DTSTART:20261101T060000
END:STANDARD
BEGIN:DAYLIGHT
TZOFFSETFROM:-0500
TZOFFSETTO:-0400
TZNAME:EDT
DTSTART:20270314T070000
END:DAYLIGHT
BEGIN:STANDARD
TZOFFSETFROM:-0400
TZOFFSETTO:-0500
TZNAME:EST
DTSTART:20271107T060000
END:STANDARD
END:VTIMEZONE
BEGIN:VEVENT
DTSTART;TZID=America/New_York:20260604T210000
DTEND;TZID=America/New_York:20260604T230000
DTSTAMP:20260421T133413
CREATED:20260227T195328Z
LAST-MODIFIED:20260227T195331Z
UID:2016-1780606800-1780614000@jackyl.com
SUMMARY:Jackyl live at Ohio Bike Week\, Sandusky\, OH
DESCRIPTION:Jackyl's back at Ohio Bike Week 2026 in Sandusky\, OH on June 4th\, 2026. FREE SHOW. VIP passes on sale now!
URL:https://jackyl.com/event/jackyl-live-at-ohio-bike-week-sandusky-oh/
LOCATION:Ohio Bike Week @ Jackson Street Pier\, 233 E Shoreline Dr.\, Sandusky\, Ohio\, 44870\, United States
CATEGORIES:Shows
ATTACH;FMTTYPE=image/jpeg:https://jackyl.com/wp-content/uploads/2023/06/Jackyl-Collage.jpg
END:VEVENT
BEGIN:VEVENT
DTSTART;TZID=America/New_York:20260605T200000
DTEND;TZID=America/New_York:20260605T230000
DTSTAMP:20260421T133413
CREATED:20260304T150356Z
LAST-MODIFIED:20260304T150401Z
UID:2019-1780689600-1780700400@jackyl.com
SUMMARY:Jackyl live at Hollywood Casino Joliet\, Joliet\, IL
DESCRIPTION:The Jackyl Family Reunion is headed to Hollywood Casino Joliet in Joliet\, IL on June 5th\, 2026.
URL:https://jackyl.com/event/jackyl-live-at-hollywood-casino-joliet-joliet-il/
LOCATION:Hollywood Casino Joliet\, 1401 Gateway Blvd\, Joliet\, Illinois\, 60431
CATEGORIES:Shows
ATTACH;FMTTYPE=image/jpeg:https://jackyl.com/wp-content/uploads/2024/03/jackyl.jpeg
END:VEVENT
BEGIN:VEVENT
DTSTART;TZID=America/New_York:20260607T190000
DTEND;TZID=America/New_York:20260607T230000
DTSTAMP:20260421T133413
CREATED:20260414T165259Z
LAST-MODIFIED:20260414T165303Z
UID:2032-1780858800-1780873200@jackyl.com
SUMMARY:Jackyl live at Icon Event Hall & Lounge\, Sioux Falls\, SD
DESCRIPTION:Jackyl returns to Icon Event Hall & Lounge on June 7 for one hard-hitting night of live rock in Sioux Falls. Get ready for fan favorites\, full-throttle energy\, and the signature live show that has made Jackyl a crowd favorite for years.
URL:https://jackyl.com/event/jackyl-live-at-icon-event-hall-lounge-sioux-falls-sd/
LOCATION:Icon Event Hall & Lounge\, 402 North Main Avenue\, Sioux Falls\, South Dakota\, 57104
CATEGORIES:Shows
ATTACH;FMTTYPE=image/jpeg:https://jackyl.com/wp-content/uploads/2023/06/Jackyl-Collage.jpg
END:VEVENT
BEGIN:VEVENT
DTSTART;TZID=America/New_York:20260610T210000
DTEND;TZID=America/New_York:20260610T230000
DTSTAMP:20260421T133413
CREATED:20251113T231423Z
LAST-MODIFIED:20251113T231426Z
UID:1920-1781125200-1781132400@jackyl.com
SUMMARY:Jackyl live at Kick'n Up Kountry Music Festival\, Karlstad\, MN
DESCRIPTION:Jackyl is taking over Kick'n Up Kountry Music Festival in Karlstad\, MN on June 10th\, 2026!
URL:https://jackyl.com/event/jackyl-live-at-kickn-up-kountry-music-festival-karlstad-mn/
LOCATION:Kick'n Up Kountry Music Festival\, 1160 410th Ave\, Karlstad
CATEGORIES:Shows
ATTACH;FMTTYPE=image/jpeg:https://jackyl.com/wp-content/uploads/2023/03/Rock-Horns.jpg
END:VEVENT
BEGIN:VEVENT
DTSTART;TZID=America/New_York:20260612T180000
DTEND;TZID=America/New_York:20260612T230000
DTSTAMP:20260421T133413
CREATED:20260205T174604Z
LAST-MODIFIED:20260206T221034Z
UID:1966-1781287200-1781305200@jackyl.com
SUMMARY:Jackyl live at The City Center Champaign\, Champaign\, IL
DESCRIPTION:THE CITY CENTER PRESENTS - JACKYL. DOORS 6PM / SHOW 8PM. FRI\, JUNE 12\, 2026THE CITY CENTER - CHAMPAIGN\, ILLINOIS \n\n\n\nAll shows at The City Center are 19+ unless otherwise noted or attended with a parent/guardian. The Mezzanine is the balcony above the 1st-floor bar that overlooks the stage and the general admission area. Tickets for this section (when available) include general seating and tables (non-reserved)\, a private bar\, and private restrooms. All ticket levels allow access to the general admission area of the venue. Limited\, non-reserved seating is available on select shows in the general admission area. \n\n\n\nTicket prices will increase on the day of the show\, and all tickets are nonrefundable. For venue policies and more information (including all upcoming events)\, please visit www.citycenterchampaign.com. 
URL:https://jackyl.com/event/jackyl-live-at-the-city-center-champaign-champaign-il/
LOCATION:South Dakota
CATEGORIES:Shows
ATTACH;FMTTYPE=image/jpeg:https://jackyl.com/wp-content/uploads/2024/03/jackyl.jpeg
END:VEVENT
BEGIN:VEVENT
DTSTART;TZID=America/New_York:20260613T180000
DTEND;TZID=America/New_York:20260613T230000
DTSTAMP:20260421T133413
CREATED:20260130T212325Z
LAST-MODIFIED:20260130T212328Z
UID:1962-1781373600-1781391600@jackyl.com
SUMMARY:Jackyl live at Rayne Drop Inn\, Marion Center\, PA
DESCRIPTION:Jackyl with special guest Creed Fisher comes to Rayne Drop Inn on June 13th 2026.
URL:https://jackyl.com/event/jackyl-live-at-rayne-drop-inn-marion-center-pa/
LOCATION:Rayne Drop Inn\, 7711 Rte 119 Hwy N\, Marion Center\, Pennsylvania\, 15759
CATEGORIES:Shows
ATTACH;FMTTYPE=image/jpeg:https://jackyl.com/wp-content/uploads/2024/03/jackyl.jpeg
END:VEVENT
END:VCALENDAR