BEGIN:VCALENDAR
VERSION:2.0
PRODID:-//Jackyl - ECPv6.15.20//NONSGML v1.0//EN
CALSCALE:GREGORIAN
METHOD:PUBLISH
X-WR-CALNAME:Jackyl
X-ORIGINAL-URL:https://jackyl.com
X-WR-CALDESC:Events for Jackyl
REFRESH-INTERVAL;VALUE=DURATION:PT1H
X-Robots-Tag:noindex
X-PUBLISHED-TTL:PT1H
BEGIN:VTIMEZONE
TZID:America/New_York
BEGIN:DAYLIGHT
TZOFFSETFROM:-0500
TZOFFSETTO:-0400
TZNAME:EDT
DTSTART:20250309T070000
END:DAYLIGHT
BEGIN:STANDARD
TZOFFSETFROM:-0400
TZOFFSETTO:-0500
TZNAME:EST
DTSTART:20251102T060000
END:STANDARD
BEGIN:DAYLIGHT
TZOFFSETFROM:-0500
TZOFFSETTO:-0400
TZNAME:EDT
DTSTART:20260308T070000
END:DAYLIGHT
BEGIN:STANDARD
TZOFFSETFROM:-0400
TZOFFSETTO:-0500
TZNAME:EST
DTSTART:20261101T060000
END:STANDARD
BEGIN:DAYLIGHT
TZOFFSETFROM:-0500
TZOFFSETTO:-0400
TZNAME:EDT
DTSTART:20270314T070000
END:DAYLIGHT
BEGIN:STANDARD
TZOFFSETFROM:-0400
TZOFFSETTO:-0500
TZNAME:EST
DTSTART:20271107T060000
END:STANDARD
END:VTIMEZONE
BEGIN:VEVENT
DTSTART;TZID=America/New_York:20260328T180000
DTEND;TZID=America/New_York:20260328T230000
DTSTAMP:20260420T105315
CREATED:20251219T212058Z
LAST-MODIFIED:20251219T212100Z
UID:1937-1774720800-1774738800@jackyl.com
SUMMARY:Jackyl live at The Coach House Concert Hall\, San Juan Capistrano\, CA
DESCRIPTION:The Jackyl Family Reunion is taking over The Coach House Concert Hall in San Juan Capistrano\, CA on March 28th\, 2026!
URL:https://jackyl.com/event/jackyl-live-at-the-coach-house-concert-hall-san-juan-capistrano-ca/
LOCATION:The Coach House\, 33157 Camino Capistrano\, San Juan Capistrano\, California
ATTACH;FMTTYPE=image/jpeg:https://jackyl.com/wp-content/uploads/2024/03/jackyl.jpeg
END:VEVENT
BEGIN:VEVENT
DTSTART;TZID=America/New_York:20260327T180000
DTEND;TZID=America/New_York:20260327T230000
DTSTAMP:20260420T105315
CREATED:20251218T225238Z
LAST-MODIFIED:20260307T142840Z
UID:1933-1774634400-1774652400@jackyl.com
SUMMARY:Jackyl live at The Canyon Club\, Agoura Hills\, CA
DESCRIPTION:Jackyl is headed to Agoura Hills\, CA to take over The Canyon Club on March 27th\, 2026! Tickets on sale now!
URL:https://jackyl.com/event/jackyl-live-at-the-canyon-club-agoura-hills-ca/
LOCATION:South Dakota
CATEGORIES:Shows
ATTACH;FMTTYPE=image/jpeg:https://jackyl.com/wp-content/uploads/2023/06/Jackyl-Collage.jpg
END:VEVENT
BEGIN:VEVENT
DTSTART;TZID=America/New_York:20260326T200000
DTEND;TZID=America/New_York:20260326T230000
DTSTAMP:20260420T105315
CREATED:20260114T154557Z
LAST-MODIFIED:20260114T154559Z
UID:1942-1774555200-1774566000@jackyl.com
SUMMARY:Jackyl with Buckcherry live at Agua Caliente Casino\, Rancho Mirage\, CA
DESCRIPTION:Catch Jackyl & Buckcherry live at Agua Caliente Casino in Rancho Mirage\, CA on March 26th\, 2026.
URL:https://jackyl.com/event/jackyl-with-buckcherry-live-at-agua-caliente-casino-rancho-mirage-ca/
LOCATION:Agua Caliente Casino\, 32-250 Bob Hope Drive\, Rancho Mirage\, California\, 92270
CATEGORIES:Shows
ATTACH;FMTTYPE=image/jpeg:https://jackyl.com/wp-content/uploads/2026/01/599510486_1311682604324025_3607363939540086848_n.jpg
END:VEVENT
BEGIN:VEVENT
DTSTART;TZID=America/New_York:20260325T200000
DTEND;TZID=America/New_York:20260325T230000
DTSTAMP:20260420T105315
CREATED:20260211T182259Z
LAST-MODIFIED:20260303T203846Z
UID:2000-1774468800-1774479600@jackyl.com
SUMMARY:Jackyl live at Tower Theatre\, Fresno\, CA
DESCRIPTION:Jackyl is coming BACK to the Tower Theatre in Fresno\, CA on March 25th\, 2026.
URL:https://jackyl.com/event/jackyl-live-at-tower-theatre-fresno-ca/
LOCATION:Tower Theatre\, 815 East Olive Avenue\, Fresno\, California\, 93728
CATEGORIES:Shows
ATTACH;FMTTYPE=image/jpeg:https://jackyl.com/wp-content/uploads/2023/06/Jackyl-Collage.jpg
END:VEVENT
BEGIN:VEVENT
DTSTART;TZID=America/New_York:20260324T200000
DTEND;TZID=America/New_York:20260324T230000
DTSTAMP:20260420T105315
CREATED:20260209T224614Z
LAST-MODIFIED:20260209T233312Z
UID:1995-1774382400-1774393200@jackyl.com
SUMMARY:Jackyl live at Cargo Concert Hall\, Reno\, NV
DESCRIPTION:The Jackyl Family Reunion is coming to Cargo Concert Hall in Reno\, NV on March 24th\, 2026!
URL:https://jackyl.com/event/jackyl-live-at-cargo-concert-hall-reno-nv/
LOCATION:Cargo Concert Hall\, 255 North Virginia Street\, Reno\, Nevada\, 89501
CATEGORIES:Shows
ATTACH;FMTTYPE=image/jpeg:https://jackyl.com/wp-content/uploads/2024/03/jackyl.jpeg
END:VEVENT
BEGIN:VEVENT
DTSTART;TZID=America/New_York:20260323T190000
DTEND;TZID=America/New_York:20260323T230000
DTSTAMP:20260420T105315
CREATED:20260211T165500Z
LAST-MODIFIED:20260309T165855Z
UID:2002-1774292400-1774306800@jackyl.com
SUMMARY:Jackyl live at Barrelhouse\, Bakersfield\, CA
DESCRIPTION:Jackyl is coming to Barrelhouse in Bakersfield\, CA on March 23rd\, 2026 with special guest Angels Roost for an all ages show.
URL:https://jackyl.com/event/jackyl-live-at-barrelhouse-bakersfield-ca/
LOCATION:Barrelhouse\, 4200 Resnik Ct\, Bakersfield\, California
CATEGORIES:Shows
ATTACH;FMTTYPE=image/jpeg:https://jackyl.com/wp-content/uploads/2023/04/Jackyl-15-scaled.jpg
END:VEVENT
BEGIN:VEVENT
DTSTART;TZID=America/New_York:20260307T210000
DTEND;TZID=America/New_York:20260307T230000
DTSTAMP:20260420T105315
CREATED:20260120T222026Z
LAST-MODIFIED:20260130T205627Z
UID:1956-1772917200-1772924400@jackyl.com
SUMMARY:Jackyl live at Iron Horse Saloon\, Daytona\, FL
DESCRIPTION:Jackyl hits the stage Saturday\, March 7 at 9:15PM at Iron Horse Saloon for Daytona Bike Week. Get there early. You already know this one’s gonna be PACKED. FREE SHOW.
URL:https://jackyl.com/event/jackyl-live-at-iron-horse-saloon-daytona-fl/
LOCATION:Iron Horse Saloon\, 1068 North US 1\, Ormand Beach\, 32174
CATEGORIES:Shows
ATTACH;FMTTYPE=image/jpeg:https://jackyl.com/wp-content/uploads/2023/04/Jackyl-15-scaled.jpg
END:VEVENT
END:VCALENDAR